BEGIN:VCALENDAR
VERSION:2.0
PRODID:-//Gesamtschule Münster-West - ECPv6.15.20//NONSGML v1.0//EN
CALSCALE:GREGORIAN
METHOD:PUBLISH
X-ORIGINAL-URL:https://gesamtschule-muenster-west.de
X-WR-CALDESC:Veranstaltungen für Gesamtschule Münster-West
REFRESH-INTERVAL;VALUE=DURATION:PT1H
X-Robots-Tag:noindex
X-PUBLISHED-TTL:PT1H
BEGIN:VTIMEZONE
TZID:Europe/Berlin
BEGIN:DAYLIGHT
TZOFFSETFROM:+0100
TZOFFSETTO:+0200
TZNAME:CEST
DTSTART:20240331T010000
END:DAYLIGHT
BEGIN:STANDARD
TZOFFSETFROM:+0200
TZOFFSETTO:+0100
TZNAME:CET
DTSTART:20241027T010000
END:STANDARD
BEGIN:DAYLIGHT
TZOFFSETFROM:+0100
TZOFFSETTO:+0200
TZNAME:CEST
DTSTART:20250330T010000
END:DAYLIGHT
BEGIN:STANDARD
TZOFFSETFROM:+0200
TZOFFSETTO:+0100
TZNAME:CET
DTSTART:20251026T010000
END:STANDARD
BEGIN:DAYLIGHT
TZOFFSETFROM:+0100
TZOFFSETTO:+0200
TZNAME:CEST
DTSTART:20260329T010000
END:DAYLIGHT
BEGIN:STANDARD
TZOFFSETFROM:+0200
TZOFFSETTO:+0100
TZNAME:CET
DTSTART:20261025T010000
END:STANDARD
END:VTIMEZONE
BEGIN:VEVENT
DTSTART;VALUE=DATE:20250922
DTEND;VALUE=DATE:20251003
DTSTAMP:20260424T145550
CREATED:20250910T064526Z
LAST-MODIFIED:20251002T232957Z
UID:20303-1758499200-1759449599@gesamtschule-muenster-west.de
SUMMARY:LC Phase 1 D Jg.5
DESCRIPTION:
URL:https://gesamtschule-muenster-west.de/event/lc-1-d-jg-5/
END:VEVENT
BEGIN:VEVENT
DTSTART;VALUE=DATE:20250922
DTEND;VALUE=DATE:20251003
DTSTAMP:20260424T145550
CREATED:20250918T090034Z
LAST-MODIFIED:20251002T232957Z
UID:20737-1758499200-1759449599@gesamtschule-muenster-west.de
SUMMARY:LC Phase 1 D Jg.6
DESCRIPTION:
URL:https://gesamtschule-muenster-west.de/event/lc-phase-1-d-jg-6/
END:VEVENT
BEGIN:VEVENT
DTSTART;VALUE=DATE:20250929
DTEND;VALUE=DATE:20251004
DTSTAMP:20260424T145550
CREATED:20250912T104515Z
LAST-MODIFIED:20251003T235958Z
UID:20425-1759104000-1759535999@gesamtschule-muenster-west.de
SUMMARY:LC Phase 1 E Jg.6
DESCRIPTION:
URL:https://gesamtschule-muenster-west.de/event/lc-phase-1-e-jg-6/
END:VEVENT
BEGIN:VEVENT
DTSTART;VALUE=DATE:20250929
DTEND;VALUE=DATE:20251011
DTSTAMP:20260424T145550
CREATED:20250905T084605Z
LAST-MODIFIED:20251010T234527Z
UID:20067-1759104000-1760140799@gesamtschule-muenster-west.de
SUMMARY:LC Phase 1 M Jg.5
DESCRIPTION:
URL:https://gesamtschule-muenster-west.de/event/lc-phase-1-mathematik-jg-5/
END:VEVENT
BEGIN:VEVENT
DTSTART;VALUE=DATE:20251006
DTEND;VALUE=DATE:20251011
DTSTAMP:20260424T145550
CREATED:20250912T104515Z
LAST-MODIFIED:20251010T234527Z
UID:20426-1759708800-1760140799@gesamtschule-muenster-west.de
SUMMARY:LC Phase 1 E Jg.5
DESCRIPTION:
URL:https://gesamtschule-muenster-west.de/event/lc-phase-1-e-jg-5/
END:VEVENT
BEGIN:VEVENT
DTSTART;TZID=Europe/Berlin:20251009T183000
DTEND;TZID=Europe/Berlin:20251009T193000
DTSTAMP:20260424T145550
CREATED:20250908T110050Z
LAST-MODIFIED:20251009T170009Z
UID:20218-1760034600-1760038200@gesamtschule-muenster-west.de
SUMMARY:Infoabend Scobees Eltern
DESCRIPTION:
URL:https://gesamtschule-muenster-west.de/event/infoabend-scobees-eltern/
END:VEVENT
END:VCALENDAR