BEGIN:VCALENDAR
VERSION:2.0
PRODID:-//Gesamtschule Münster-West - ECPv6.15.20//NONSGML v1.0//EN
CALSCALE:GREGORIAN
METHOD:PUBLISH
X-WR-CALNAME:Gesamtschule Münster-West
X-ORIGINAL-URL:https://gesamtschule-muenster-west.de
X-WR-CALDESC:Veranstaltungen für Gesamtschule Münster-West
REFRESH-INTERVAL;VALUE=DURATION:PT1H
X-Robots-Tag:noindex
X-PUBLISHED-TTL:PT1H
BEGIN:VTIMEZONE
TZID:Europe/Berlin
BEGIN:DAYLIGHT
TZOFFSETFROM:+0100
TZOFFSETTO:+0200
TZNAME:CEST
DTSTART:20240331T010000
END:DAYLIGHT
BEGIN:STANDARD
TZOFFSETFROM:+0200
TZOFFSETTO:+0100
TZNAME:CET
DTSTART:20241027T010000
END:STANDARD
BEGIN:DAYLIGHT
TZOFFSETFROM:+0100
TZOFFSETTO:+0200
TZNAME:CEST
DTSTART:20250330T010000
END:DAYLIGHT
BEGIN:STANDARD
TZOFFSETFROM:+0200
TZOFFSETTO:+0100
TZNAME:CET
DTSTART:20251026T010000
END:STANDARD
BEGIN:DAYLIGHT
TZOFFSETFROM:+0100
TZOFFSETTO:+0200
TZNAME:CEST
DTSTART:20260329T010000
END:DAYLIGHT
BEGIN:STANDARD
TZOFFSETFROM:+0200
TZOFFSETTO:+0100
TZNAME:CET
DTSTART:20261025T010000
END:STANDARD
END:VTIMEZONE
BEGIN:VEVENT
DTSTART;TZID=Europe/Berlin:20251113T173000
DTEND;TZID=Europe/Berlin:20251113T183000
DTSTAMP:20260424T144242
CREATED:20251028T093007Z
LAST-MODIFIED:20251113T172956Z
UID:22736-1763055000-1763058600@gesamtschule-muenster-west.de
SUMMARY:St.Martinsumzug Start  an GeMW
DESCRIPTION:
URL:https://gesamtschule-muenster-west.de/event/st-martinsumzug-start-an-gemw/
END:VEVENT
END:VCALENDAR